BEGIN:VCALENDAR
VERSION:2.0
PRODID:-//eventon.com NONSGML v1.0//EN
CALSCALE:GREGORIAN
METHOD:PUBLISH
BEGIN:VEVENT
UID:69eb9094ba2b0
DTSTAMP:20260424T154732Z
DTSTART:20260511
DTEND:20260512
LOCATION:
SUMMARY:Digital Marketing - ONLINE
DESCRIPTION:Vuoi migliorare il tuo curriculum e imparare a padroneggiare gl
 i strumenti più potenti del web per far crescere un business? Partecipa al
  nostro corso finanziato al 100% da Regione Lombardia\,  pensato per person
 e disoccupate e in cerca di riqualificazione professionale! Il corso GOL di
  Digital Marketing ti offre la possibilità[..]\nhttps://www.gatelavoro.it/
 events/digital-marketing-online/
URL:https://www.gatelavoro.it/events/digital-marketing-online/
END:VEVENT
END:VCALENDAR