BEGIN:VCALENDAR
VERSION:2.0
PRODID:-//eventon.com NONSGML v1.0//EN
CALSCALE:GREGORIAN
METHOD:PUBLISH
BEGIN:VEVENT
UID:69eb9065649b2
DTSTAMP:20260424T154645Z
DTSTART:20260504
DTEND:20260505
LOCATION:
SUMMARY:Corso Pacchetto Microsoft Office
DESCRIPTION:Vuoi migliorare il tuo curriculum e imparare a usare Word\,  Ex
 cel\,  PowerPoint e Outlook? Partecipa al nostro corso finanziato al 100% d
 a Regione Lombardia\,  pensato per persone disoccupate! Il corso GOL di Mic
 rosoft Office ti offre la possibilità di acquisire le conoscenze pratiche 
 fondamentali per inserirti o reinserirti nel mondo[..]\nhttps://www.gatelav
 oro.it/events/corso-pacchetto-microsoft-office-4/
URL:https://www.gatelavoro.it/events/corso-pacchetto-microsoft-office-4/
END:VEVENT
END:VCALENDAR