BEGIN:VCALENDAR
VERSION:2.0
PRODID:-//eventon.com NONSGML v1.0//EN
CALSCALE:GREGORIAN
METHOD:PUBLISH
BEGIN:VEVENT
UID:69eb8f09d1567
DTSTAMP:20260424T154057Z
DTSTART:20260504
DTEND:20260505
LOCATION:
SUMMARY:Business English
DESCRIPTION:Vuoi migliorare il tuo curriculum e imparare a comunicare con s
 icurezza in contesti lavorativi internazionali? Partecipa al nostro corso f
 inanziato al 100% da Regione Lombardia\,  pensato per persone disoccupate! 
 Il corso GOL di Business English ti offre la possibilitÃ  di acquisire le c
 ompetenze linguistiche avanzate necessarie per muoverti con professionalitÃ
  [..]\nhttps://www.gatelavoro.it/events/business-english/
URL:https://www.gatelavoro.it/events/business-english/
END:VEVENT
END:VCALENDAR