BEGIN:VCALENDAR
VERSION:2.0
PRODID:-//eventon.com NONSGML v1.0//EN
CALSCALE:GREGORIAN
METHOD:PUBLISH
BEGIN:VEVENT
UID:69eb9343f40b0
DTSTAMP:20260424T155859Z
DTSTART:20260504T093700Z
DTEND:20260610T093700Z
LOCATION:
SUMMARY:Organizzazione di eventi e tecniche di Self Marketing
DESCRIPTION:Vuoi migliorare il tuo curriculum e imparare a promuovere il tu
 o talento nel mondo della comunicazione? Partecipa al nostro corso finanzia
 to al 100% da Regione Lombardia\,  pensato per persone disoccupate e in cer
 ca di ricollocazione! Il corso GOL di Organizzazione Eventi e tecniche di S
 elf Marketing ti offre la possibilità[..]\nhttps://www.gatelavoro.it/event
 s/organizzazione-di-eventi-e-tecniche-di-self-marketing/
URL:https://www.gatelavoro.it/events/organizzazione-di-eventi-e-tecniche-di-self-marketing/
END:VEVENT
END:VCALENDAR