BEGIN:VCALENDAR
VERSION:2.0
PRODID:-//eventon.com NONSGML v1.0//EN
CALSCALE:GREGORIAN
METHOD:PUBLISH
BEGIN:VEVENT
UID:69eb932e8e98f
DTSTAMP:20260424T155838Z
DTSTART:20260514
DTEND:20260515
LOCATION:
SUMMARY:Segretaria d’Ufficio
DESCRIPTION:Vuoi migliorare il tuo curriculum e acquisire le competenze pra
 tiche per lavorare in contesti aziendali e studi professionali? Partecipa a
 l nostro corso finanziato al 100% da Regione Lombardia\,  pensato per perso
 ne disoccupate! Il corso GOL di Segretaria d’Ufficio ti offre la possibil
 ità di acquisire le conoscenze fondamentali per supportare le[..]\nhttps:/
 /www.gatelavoro.it/events/segretaria-dufficio-2/
URL:https://www.gatelavoro.it/events/segretaria-dufficio-2/
END:VEVENT
END:VCALENDAR