BEGIN:VCALENDAR
VERSION:2.0
PRODID:-//eventon.com NONSGML v1.0//EN
CALSCALE:GREGORIAN
METHOD:PUBLISH
BEGIN:VEVENT
UID:69eb93592761d
DTSTAMP:20260424T155921Z
DTSTART:20260511
DTEND:20260512
LOCATION:
SUMMARY:Corso Segretaria studio medico (Addetto Back Office)
DESCRIPTION:Vuoi migliorare il tuo curriculum e diventare la figura chiave 
 nell'organizzazione di studi medici e strutture sanitarie? Partecipa al nos
 tro corso finanziato al 100% da Regione Lombardia\,  organizzato da People 
 S.p.A. e pensato per persone disoccupate! Il corso GOL di Segretaria di Stu
 dio Medico ti offre la possibilità di acquisire[..]\nhttps://www.gatelavor
 o.it/events/corso-segretaria-studio-medico-addetto-back-office/
URL:https://www.gatelavoro.it/events/corso-segretaria-studio-medico-addetto-back-office/
END:VEVENT
END:VCALENDAR