BEGIN:VCALENDAR
VERSION:2.0
PRODID:-//eventon.com NONSGML v1.0//EN
CALSCALE:GREGORIAN
METHOD:PUBLISH
BEGIN:VEVENT
UID:69eb9343a49e0
DTSTAMP:20260424T155859Z
DTSTART:20260504T080000Z
DTEND:20260603T080000Z
LOCATION:
SUMMARY:Gestione risorse umane con AI - ONLINE
DESCRIPTION:Vuoi migliorare il tuo curriculum e imparare a gestire le Risor
 se Umane con le tecnologie più avanzate? Partecipa al nostro corso finanzi
 ato al 100% da Regione Lombardia\,  pensato per persone disoccupate e in ce
 rca di aggiornamento professionale! Il corso GOL di HR Specialist & AI ti o
 ffre la possibilità di[..]\nhttps://www.gatelavoro.it/events/addetto-uffic
 io-risorse-umane-hr/
URL:https://www.gatelavoro.it/events/addetto-ufficio-risorse-umane-hr/
END:VEVENT
END:VCALENDAR